BEGIN:VCALENDAR
VERSION:2.0
PRODID:-//Evergreen Animal Protective League - ECPv6.15.20//NONSGML v1.0//EN
CALSCALE:GREGORIAN
METHOD:PUBLISH
X-ORIGINAL-URL:https://eapl.com
X-WR-CALDESC:Events for Evergreen Animal Protective League
REFRESH-INTERVAL;VALUE=DURATION:PT1H
X-Robots-Tag:noindex
X-PUBLISHED-TTL:PT1H
BEGIN:VTIMEZONE
TZID:America/Denver
BEGIN:DAYLIGHT
TZOFFSETFROM:-0700
TZOFFSETTO:-0600
TZNAME:MDT
DTSTART:20230312T090000
END:DAYLIGHT
BEGIN:STANDARD
TZOFFSETFROM:-0600
TZOFFSETTO:-0700
TZNAME:MST
DTSTART:20231105T080000
END:STANDARD
BEGIN:DAYLIGHT
TZOFFSETFROM:-0700
TZOFFSETTO:-0600
TZNAME:MDT
DTSTART:20240310T090000
END:DAYLIGHT
BEGIN:STANDARD
TZOFFSETFROM:-0600
TZOFFSETTO:-0700
TZNAME:MST
DTSTART:20241103T080000
END:STANDARD
BEGIN:DAYLIGHT
TZOFFSETFROM:-0700
TZOFFSETTO:-0600
TZNAME:MDT
DTSTART:20250309T090000
END:DAYLIGHT
BEGIN:STANDARD
TZOFFSETFROM:-0600
TZOFFSETTO:-0700
TZNAME:MST
DTSTART:20251102T080000
END:STANDARD
END:VTIMEZONE
BEGIN:VEVENT
DTSTART;TZID=America/Denver:20240718T160000
DTEND;TZID=America/Denver:20240718T210000
DTSTAMP:20260419T111714
CREATED:20240624T233534Z
LAST-MODIFIED:20240711T171955Z
UID:75211-1721318400-1721336400@eapl.com
SUMMARY:Raining Cats and Dogs at Cactus Jacks
DESCRIPTION:
URL:https://eapl.com/event/raining-cats-and-dogs-at-cactus-jacks/
LOCATION:Cactus Jack’s\, 4651 Co Rd 73\, evergreen\, CO\, 80439\, United States
CATEGORIES:Exhibition,Fundraiser,Volunteering
END:VEVENT
BEGIN:VEVENT
DTSTART;TZID=America/Denver:20240720T100000
DTEND;TZID=America/Denver:20240720T170000
DTSTAMP:20260419T111714
CREATED:20240611T021547Z
LAST-MODIFIED:20240629T221008Z
UID:75166-1721469600-1721494800@eapl.com
SUMMARY:SummerFest
DESCRIPTION:
URL:https://eapl.com/event/summer-fest/
LOCATION:CO
CATEGORIES:Adoption,Exhibition,Fundraiser
END:VEVENT
BEGIN:VEVENT
DTSTART;TZID=America/Denver:20240721T100000
DTEND;TZID=America/Denver:20240721T170000
DTSTAMP:20260419T111714
CREATED:20240611T021753Z
LAST-MODIFIED:20240629T220942Z
UID:75170-1721556000-1721581200@eapl.com
SUMMARY:SummerFest
DESCRIPTION:
URL:https://eapl.com/event/summer-fest-2/
LOCATION:CO
CATEGORIES:Adoption,Charity,Fundraiser
END:VEVENT
END:VCALENDAR