BEGIN:VCALENDAR
VERSION:2.0
PRODID:-//Evergreen Animal Protective League - ECPv6.15.20//NONSGML v1.0//EN
CALSCALE:GREGORIAN
METHOD:PUBLISH
X-ORIGINAL-URL:https://eapl.com
X-WR-CALDESC:Events for Evergreen Animal Protective League
REFRESH-INTERVAL;VALUE=DURATION:PT1H
X-Robots-Tag:noindex
X-PUBLISHED-TTL:PT1H
BEGIN:VTIMEZONE
TZID:America/Denver
BEGIN:DAYLIGHT
TZOFFSETFROM:-0700
TZOFFSETTO:-0600
TZNAME:MDT
DTSTART:20230312T090000
END:DAYLIGHT
BEGIN:STANDARD
TZOFFSETFROM:-0600
TZOFFSETTO:-0700
TZNAME:MST
DTSTART:20231105T080000
END:STANDARD
BEGIN:DAYLIGHT
TZOFFSETFROM:-0700
TZOFFSETTO:-0600
TZNAME:MDT
DTSTART:20240310T090000
END:DAYLIGHT
BEGIN:STANDARD
TZOFFSETFROM:-0600
TZOFFSETTO:-0700
TZNAME:MST
DTSTART:20241103T080000
END:STANDARD
BEGIN:DAYLIGHT
TZOFFSETFROM:-0700
TZOFFSETTO:-0600
TZNAME:MDT
DTSTART:20250309T090000
END:DAYLIGHT
BEGIN:STANDARD
TZOFFSETFROM:-0600
TZOFFSETTO:-0700
TZNAME:MST
DTSTART:20251102T080000
END:STANDARD
END:VTIMEZONE
BEGIN:VEVENT
DTSTART;TZID=America/Denver:20240602T110000
DTEND;TZID=America/Denver:20240602T150000
DTSTAMP:20260419T130601
CREATED:20240529T225053Z
LAST-MODIFIED:20240529T225121Z
UID:75155-1717326000-1717340400@eapl.com
SUMMARY:Chow Down Adoption Event
DESCRIPTION:
URL:https://eapl.com/event/chow-down-adoption-event-2/
LOCATION:Chow Down Pet Supplies\, 1260 Bergen Pkwy\, Evergreen\, CO\, 80439\, United States
CATEGORIES:Adoption,Exhibition,Fundraiser
END:VEVENT
BEGIN:VEVENT
DTSTART;TZID=America/Denver:20240615T100000
DTEND;TZID=America/Denver:20240615T140000
DTSTAMP:20260419T130601
CREATED:20240611T021156Z
LAST-MODIFIED:20240614T235946Z
UID:75163-1718445600-1718460000@eapl.com
SUMMARY:Evergreen Rodeo
DESCRIPTION:
URL:https://eapl.com/event/evergreen-rodeo/
LOCATION:EAPL Thrift Shop\, 27888 Meadow Dr\, Evergreen\, CO\, 80439\, United States
CATEGORIES:Adoption,Exhibition
END:VEVENT
END:VCALENDAR