BEGIN:VCALENDAR
VERSION:2.0
PRODID:-//Evergreen Animal Protective League - ECPv6.15.20//NONSGML v1.0//EN
CALSCALE:GREGORIAN
METHOD:PUBLISH
X-ORIGINAL-URL:https://eapl.com
X-WR-CALDESC:Events for Evergreen Animal Protective League
REFRESH-INTERVAL;VALUE=DURATION:PT1H
X-Robots-Tag:noindex
X-PUBLISHED-TTL:PT1H
BEGIN:VTIMEZONE
TZID:America/Denver
BEGIN:DAYLIGHT
TZOFFSETFROM:-0700
TZOFFSETTO:-0600
TZNAME:MDT
DTSTART:20220313T090000
END:DAYLIGHT
BEGIN:STANDARD
TZOFFSETFROM:-0600
TZOFFSETTO:-0700
TZNAME:MST
DTSTART:20221106T080000
END:STANDARD
BEGIN:DAYLIGHT
TZOFFSETFROM:-0700
TZOFFSETTO:-0600
TZNAME:MDT
DTSTART:20230312T090000
END:DAYLIGHT
BEGIN:STANDARD
TZOFFSETFROM:-0600
TZOFFSETTO:-0700
TZNAME:MST
DTSTART:20231105T080000
END:STANDARD
BEGIN:DAYLIGHT
TZOFFSETFROM:-0700
TZOFFSETTO:-0600
TZNAME:MDT
DTSTART:20240310T090000
END:DAYLIGHT
BEGIN:STANDARD
TZOFFSETFROM:-0600
TZOFFSETTO:-0700
TZNAME:MST
DTSTART:20241103T080000
END:STANDARD
END:VTIMEZONE
BEGIN:VEVENT
DTSTART;TZID=America/Denver:20231202T100000
DTEND;TZID=America/Denver:20231202T140000
DTSTAMP:20260419T220815
CREATED:20231122T161134Z
LAST-MODIFIED:20231130T051140Z
UID:75021-1701511200-1701525600@eapl.com
SUMMARY:Canceled --- Pictures with Santa
DESCRIPTION:
URL:https://eapl.com/event/pictures-with-santa-3/
LOCATION:Chow Down Pet Supplies\, 1260 Bergen Pkwy\, Evergreen\, CO\, 80439\, United States
ATTACH;FMTTYPE=image/webp:https://eapl.com/wp-content/uploads/2023/11/santa-cancel-scaled.webp
END:VEVENT
END:VCALENDAR