BEGIN:VCALENDAR
VERSION:2.0
PRODID:-//Evergreen Animal Protective League - ECPv6.15.20//NONSGML v1.0//EN
CALSCALE:GREGORIAN
METHOD:PUBLISH
X-WR-CALNAME:Evergreen Animal Protective League
X-ORIGINAL-URL:https://eapl.com
X-WR-CALDESC:Events for Evergreen Animal Protective League
REFRESH-INTERVAL;VALUE=DURATION:PT1H
X-Robots-Tag:noindex
X-PUBLISHED-TTL:PT1H
BEGIN:VTIMEZONE
TZID:America/Denver
BEGIN:DAYLIGHT
TZOFFSETFROM:-0700
TZOFFSETTO:-0600
TZNAME:MDT
DTSTART:20240310T090000
END:DAYLIGHT
BEGIN:STANDARD
TZOFFSETFROM:-0600
TZOFFSETTO:-0700
TZNAME:MST
DTSTART:20241103T080000
END:STANDARD
BEGIN:DAYLIGHT
TZOFFSETFROM:-0700
TZOFFSETTO:-0600
TZNAME:MDT
DTSTART:20250309T090000
END:DAYLIGHT
BEGIN:STANDARD
TZOFFSETFROM:-0600
TZOFFSETTO:-0700
TZNAME:MST
DTSTART:20251102T080000
END:STANDARD
BEGIN:DAYLIGHT
TZOFFSETFROM:-0700
TZOFFSETTO:-0600
TZNAME:MDT
DTSTART:20260308T090000
END:DAYLIGHT
BEGIN:STANDARD
TZOFFSETFROM:-0600
TZOFFSETTO:-0700
TZNAME:MST
DTSTART:20261101T080000
END:STANDARD
BEGIN:DAYLIGHT
TZOFFSETFROM:-0700
TZOFFSETTO:-0600
TZNAME:MDT
DTSTART:20270314T090000
END:DAYLIGHT
BEGIN:STANDARD
TZOFFSETFROM:-0600
TZOFFSETTO:-0700
TZNAME:MST
DTSTART:20271107T080000
END:STANDARD
END:VTIMEZONE
BEGIN:VEVENT
DTSTART;TZID=America/Denver:20250503T100000
DTEND;TZID=America/Denver:20250503T140000
DTSTAMP:20260421T193920
CREATED:20250417T181452Z
LAST-MODIFIED:20250417T181452Z
UID:75489-1746266400-1746280800@eapl.com
SUMMARY:Coldwell Banker's Homes for Dogs
DESCRIPTION:
URL:https://eapl.com/event/coldwell-bankers-homes-for-dogs/
LOCATION:COLDWELL BANKER – EVERGREEN – STAGECOACH\, 30810 Stagecoach Blvd. #101\, Evergreen\, CO\, 80439\, United States
CATEGORIES:Adoption,Exhibition,Fundraiser,Volunteering
ATTACH;FMTTYPE=image/png:https://eapl.com/wp-content/uploads/2025/04/UTF-8Homes-for-dogs-Flyer.png
END:VEVENT
BEGIN:VEVENT
DTSTART;TZID=America/Denver:20250521T100000
DTEND;TZID=America/Denver:20250521T120000
DTSTAMP:20260421T193920
CREATED:20250519T011741Z
LAST-MODIFIED:20250519T011754Z
UID:75509-1747821600-1747828800@eapl.com
SUMMARY:Puppies and Pizza
DESCRIPTION:
URL:https://eapl.com/event/puppies-and-pizza-3/
LOCATION:vsa\, 32156 Castle Court #201\, Evergreen\, CO\, 80439\, United States
CATEGORIES:Adoption,Fundraiser,Volunteering
ATTACH;FMTTYPE=image/webp:https://eapl.com/wp-content/uploads/2025/05/puppiesandpizzaflyer-scaled.webp
END:VEVENT
BEGIN:VEVENT
DTSTART;TZID=America/Denver:20250531T100000
DTEND;TZID=America/Denver:20250531T140000
DTSTAMP:20260421T193920
CREATED:20250531T022017Z
LAST-MODIFIED:20250531T022208Z
UID:75518-1748685600-1748700000@eapl.com
SUMMARY:Pets and Stuff Customer appreciation and EAPL Adoption Event
DESCRIPTION:
URL:https://eapl.com/event/pets-and-stuff-customer-appreciation-and-eapl-adoption-event/
LOCATION:Pets and Stuff\, 7777 W Jewell Ave\, Lakewood\, CO\, 80232\, United States
CATEGORIES:Adoption,Fundraiser,Volunteering
ATTACH;FMTTYPE=image/webp:https://eapl.com/wp-content/uploads/2025/05/Pets-N-Stuff-Eventflyier-scaled.webp
END:VEVENT
BEGIN:VEVENT
DTSTART;TZID=America/Denver:20250601T080000
DTEND;TZID=America/Denver:20250601T120000
DTSTAMP:20260421T193920
CREATED:20250228T175525Z
LAST-MODIFIED:20250228T175525Z
UID:75454-1748764800-1748779200@eapl.com
SUMMARY:Foothills Fire Pancake Breakfast
DESCRIPTION:
URL:https://eapl.com/event/foothills-fire-pancake-breakfast/
LOCATION:Lookout Mountain Firehouse\, 67 S Lookout Mountain Road\, Golden\, CO\, 80401\, United States
CATEGORIES:Adoption,Fundraiser,Volunteering
ATTACH;FMTTYPE=image/png:https://eapl.com/wp-content/uploads/2025/02/2025-02-28-10-53-00-0.png
END:VEVENT
BEGIN:VEVENT
DTSTART;TZID=America/Denver:20250614T100000
DTEND;TZID=America/Denver:20250614T140000
DTSTAMP:20260421T193920
CREATED:20250228T175906Z
LAST-MODIFIED:20250228T175906Z
UID:75457-1749895200-1749909600@eapl.com
SUMMARY:Evergreen Rodeo Parade
DESCRIPTION:
URL:https://eapl.com/event/evergreen-rodeo-parade/
LOCATION:EAPL Thrift Shop\, 27888 Meadow Dr\, Evergreen\, CO\, 80439\, United States
CATEGORIES:Adoption,Fundraiser
ATTACH;FMTTYPE=image/png:https://eapl.com/wp-content/uploads/2025/02/2025-02-28-10-56-53-0.png
END:VEVENT
BEGIN:VEVENT
DTSTART;TZID=America/Denver:20250628T100000
DTEND;TZID=America/Denver:20250628T150000
DTSTAMP:20260421T193920
CREATED:20250228T172956Z
LAST-MODIFIED:20250228T174248Z
UID:75436-1751104800-1751122800@eapl.com
SUMMARY:Evergreen CareBears Toy drive and EAPL Adoption event.
DESCRIPTION:
URL:https://eapl.com/event/evergreen-carebears-toy-drive-and-eapl-adoption-event/
LOCATION:EAPL Thrift Shop\, 27888 Meadow Dr\, Evergreen\, CO\, 80439\, United States
CATEGORIES:Adoption,Fundraiser
ATTACH;FMTTYPE=image/png:https://eapl.com/wp-content/uploads/2025/02/2025-02-28-10-00-56-0.png
END:VEVENT
BEGIN:VEVENT
DTSTART;TZID=America/Denver:20250712T100000
DTEND;TZID=America/Denver:20250712T143000
DTSTAMP:20260421T193920
CREATED:20250630T205652Z
LAST-MODIFIED:20250630T205853Z
UID:75528-1752314400-1752330600@eapl.com
SUMMARY:Vaccine & HW Testing/Preventative Clinic (Open to Public now) & EAPL Pop-Up Adoption Event - Save the Date!
DESCRIPTION:
URL:https://eapl.com/event/vaccine-hw-testing-preventative-clinic-open-to-public-now-eapl-pop-up-adoption-event-save-the-date/
LOCATION:EAPL Thrift Shop\, 27888 Meadow Dr\, Evergreen\, CO\, 80439\, United States
CATEGORIES:Adoption,Fundraiser
ATTACH;FMTTYPE=image/png:https://eapl.com/wp-content/uploads/2025/06/vax-clinic-flier.png
END:VEVENT
BEGIN:VEVENT
DTSTART;TZID=America/Denver:20250719T100000
DTEND;TZID=America/Denver:20250719T170000
DTSTAMP:20260421T193920
CREATED:20250228T174531Z
LAST-MODIFIED:20250228T174531Z
UID:75442-1752919200-1752944400@eapl.com
SUMMARY:Summerfest
DESCRIPTION:
URL:https://eapl.com/event/summerfest-2/
LOCATION:Buchanan Park Recreation Center\, 32003 Ellingwood Trail\, Evergreen\, CO\, 80439\, United States
CATEGORIES:Adoption,Fundraiser
ATTACH;FMTTYPE=image/png:https://eapl.com/wp-content/uploads/2025/02/2025-02-28-10-43-15-0.png
END:VEVENT
BEGIN:VEVENT
DTSTART;TZID=America/Denver:20250720T100000
DTEND;TZID=America/Denver:20250720T150000
DTSTAMP:20260421T193920
CREATED:20250228T174637Z
LAST-MODIFIED:20250228T174637Z
UID:75445-1753005600-1753023600@eapl.com
SUMMARY:Summerfest
DESCRIPTION:
URL:https://eapl.com/event/summerfest-3/
LOCATION:CO
CATEGORIES:Adoption,Fundraiser
ATTACH;FMTTYPE=image/png:https://eapl.com/wp-content/uploads/2025/02/2025-02-28-10-43-15-0.png
END:VEVENT
BEGIN:VEVENT
DTSTART;TZID=America/Denver:20250926T170000
DTEND;TZID=America/Denver:20250926T190000
DTSTAMP:20260421T193920
CREATED:20250727T195757Z
LAST-MODIFIED:20250909T213218Z
UID:75547-1758906000-1758913200@eapl.com
SUMMARY:Pawsh Hour - at the Ritz
DESCRIPTION:
URL:https://eapl.com/event/yappy-hour-at-the-ritz-save-the-date/
LOCATION:The Ritz-Carlton – Denver\, 1881 Curtis Street\, Denver\, CO\, 80202\, United States
CATEGORIES:Adoption,Charity,Exhibition,Fundraiser
ATTACH;FMTTYPE=image/webp:https://eapl.com/wp-content/uploads/2025/07/Pawsh-Hour-Promo-FlyerRitzCarltondogsadded-1-scaled.webp
END:VEVENT
BEGIN:VEVENT
DTSTART;TZID=America/Denver:20251005T100000
DTEND;TZID=America/Denver:20251005T150000
DTSTAMP:20260421T193920
CREATED:20250919T165913Z
LAST-MODIFIED:20250919T165933Z
UID:75604-1759658400-1759676400@eapl.com
SUMMARY:Chowdown
DESCRIPTION:
URL:https://eapl.com/event/chowdown-save-the-date/
LOCATION:Chow Down Pet Supplies\, 1260 Bergen Pkwy\, Evergreen\, CO\, 80439\, United States
CATEGORIES:Adoption,Exhibition,Fundraiser
ATTACH;FMTTYPE=image/webp:https://eapl.com/wp-content/uploads/2017/03/chowdown-logo.webp
END:VEVENT
BEGIN:VEVENT
DTSTART;TZID=America/Denver:20251026T080000
DTEND;TZID=America/Denver:20251026T170000
DTSTAMP:20260421T193920
CREATED:20250306T234541Z
LAST-MODIFIED:20250903T191047Z
UID:75472-1761465600-1761498000@eapl.com
SUMMARY:2025 Zombie Fun Run\, Walk or Crawl 5K
DESCRIPTION:https://www.signupgenius.com/go/10C0F4FA4AB29A7FCC34-53139856-eapls#/
URL:https://eapl.com/event/2025-zombie-fun-run-walk-or-crawl-5k/
LOCATION:Buchanan Park Recreation Center\, 32003 Ellingwood Trail\, Evergreen\, CO\, 80439\, United States
CATEGORIES:Fundraiser,Volunteering
ATTACH;FMTTYPE=image/webp:https://eapl.com/wp-content/uploads/2025/09/Register-Zombie-2025.webp
END:VEVENT
BEGIN:VEVENT
DTSTART;TZID=America/Denver:20251115T110000
DTEND;TZID=America/Denver:20251115T150000
DTSTAMP:20260421T193920
CREATED:20250306T234806Z
LAST-MODIFIED:20251028T205644Z
UID:75474-1763204400-1763218800@eapl.com
SUMMARY:Open House Pet Pictures with Santa
DESCRIPTION:
URL:https://eapl.com/event/open-house-pet-pictures-with-santa-2/
LOCATION:EAPL Thrift Shop\, 27888 Meadow Dr\, Evergreen\, CO\, 80439\, United States
CATEGORIES:Adoption,Exhibition,Fundraiser
ATTACH;FMTTYPE=image/webp:https://eapl.com/wp-content/uploads/2025/03/Thrift-Store-Santa-Event-scaled.webp
END:VEVENT
BEGIN:VEVENT
DTSTART;TZID=America/Denver:20260314T100000
DTEND;TZID=America/Denver:20260314T140000
DTSTAMP:20260421T193920
CREATED:20251231T192447Z
LAST-MODIFIED:20251231T192447Z
UID:75651-1773482400-1773496800@eapl.com
SUMMARY:Wag N' Wash - St. Patrick's Day Adoption Event
DESCRIPTION:
URL:https://eapl.com/event/wag-n-wash-st-patricks-day-adoption-event/
LOCATION:Wag-n Wash – Castle Rock\, 323 Metzler Dr..\, Castle Rock\, CO\, 80108\, United States
CATEGORIES:Adoption,Fundraiser
ATTACH;FMTTYPE=image/webp:https://eapl.com/wp-content/uploads/2025/12/St.-Patricks-Day-Adoption-Event-wag-n-wash-cr-scaled.webp
END:VEVENT
BEGIN:VEVENT
DTSTART;TZID=America/Denver:20260321T110000
DTEND;TZID=America/Denver:20260321T143000
DTSTAMP:20260421T193920
CREATED:20260119T173928Z
LAST-MODIFIED:20260129T222956Z
UID:75672-1774090800-1774103400@eapl.com
SUMMARY:EAPL Dog Adoption Extravaganza
DESCRIPTION:
URL:https://eapl.com/event/eapl-dog-adoption-extravaganza/
LOCATION:EAPL Thrift Shop\, 27888 Meadow Dr\, Evergreen\, CO\, 80439\, United States
CATEGORIES:Adoption,Fundraiser,Volunteering
ATTACH;FMTTYPE=image/jpeg:https://eapl.com/wp-content/uploads/2026/01/Easter-Adoption-Event-2.jpg
END:VEVENT
BEGIN:VEVENT
DTSTART;TZID=America/Denver:20260607T080000
DTEND;TZID=America/Denver:20260607T120000
DTSTAMP:20260421T193920
CREATED:20251229T195114Z
LAST-MODIFIED:20251229T195114Z
UID:75642-1780819200-1780833600@eapl.com
SUMMARY:Foothills Fire Pancake Breakfast
DESCRIPTION:
URL:https://eapl.com/event/foothills-fire-pancake-breakfast-2/
LOCATION:Foothills Fire Protection\, 67 S Lookout Mountain Rd\, Golden\, CO\, 80401\, United States
CATEGORIES:Adoption,Exhibition,Fundraiser
ATTACH;FMTTYPE=image/webp:https://eapl.com/wp-content/uploads/2025/12/Foothill-Fire-Pancake-Breakfast.webp
END:VEVENT
BEGIN:VEVENT
DTSTART;TZID=America/Denver:20260905T100000
DTEND;TZID=America/Denver:20260905T140000
DTSTAMP:20260421T193920
CREATED:20251231T192613Z
LAST-MODIFIED:20251231T192613Z
UID:75654-1788602400-1788616800@eapl.com
SUMMARY:ULTIMATE TAILGATE Adoption Event - Wag N' Wash
DESCRIPTION:
URL:https://eapl.com/event/ultimate-tailgate-adoption-event-wag-n-wash/
LOCATION:CO
CATEGORIES:Adoption,Fundraiser,Volunteering
ATTACH;FMTTYPE=image/webp:https://eapl.com/wp-content/uploads/2025/12/Tailgate-Event-wag-n-wash-cr.webp
END:VEVENT
BEGIN:VEVENT
DTSTART;TZID=America/Denver:20261026T090000
DTEND;TZID=America/Denver:20261026T150000
DTSTAMP:20260421T193920
CREATED:20260108T201123Z
LAST-MODIFIED:20260108T201123Z
UID:75657-1793005200-1793026800@eapl.com
SUMMARY:EAPL's 2026 Zombie Run
DESCRIPTION:
URL:https://eapl.com/event/eapls-2026-zombie-run/
LOCATION:CO
CATEGORIES:Exhibition,Fundraiser,Volunteering
ATTACH;FMTTYPE=image/jpeg:https://eapl.com/wp-content/uploads/2026/01/Zombie-2026.jpg
END:VEVENT
END:VCALENDAR