BEGIN:VCALENDAR
VERSION:2.0
PRODID:-//Evergreen Animal Protective League - ECPv6.15.20//NONSGML v1.0//EN
CALSCALE:GREGORIAN
METHOD:PUBLISH
X-ORIGINAL-URL:https://eapl.com
X-WR-CALDESC:Events for Evergreen Animal Protective League
REFRESH-INTERVAL;VALUE=DURATION:PT1H
X-Robots-Tag:noindex
X-PUBLISHED-TTL:PT1H
BEGIN:VTIMEZONE
TZID:America/Denver
BEGIN:DAYLIGHT
TZOFFSETFROM:-0700
TZOFFSETTO:-0600
TZNAME:MDT
DTSTART:20230312T090000
END:DAYLIGHT
BEGIN:STANDARD
TZOFFSETFROM:-0600
TZOFFSETTO:-0700
TZNAME:MST
DTSTART:20231105T080000
END:STANDARD
BEGIN:DAYLIGHT
TZOFFSETFROM:-0700
TZOFFSETTO:-0600
TZNAME:MDT
DTSTART:20240310T090000
END:DAYLIGHT
BEGIN:STANDARD
TZOFFSETFROM:-0600
TZOFFSETTO:-0700
TZNAME:MST
DTSTART:20241103T080000
END:STANDARD
BEGIN:DAYLIGHT
TZOFFSETFROM:-0700
TZOFFSETTO:-0600
TZNAME:MDT
DTSTART:20250309T090000
END:DAYLIGHT
BEGIN:STANDARD
TZOFFSETFROM:-0600
TZOFFSETTO:-0700
TZNAME:MST
DTSTART:20251102T080000
END:STANDARD
END:VTIMEZONE
BEGIN:VEVENT
DTSTART;TZID=America/Denver:20241027T100000
DTEND;TZID=America/Denver:20241027T140000
DTSTAMP:20260419T083005
CREATED:20240629T235203Z
LAST-MODIFIED:20240912T170204Z
UID:75235-1730023200-1730037600@eapl.com
SUMMARY:2024 EAPL Zombie Run
DESCRIPTION:Sign up here!! to volunteer!\nRegister now! to race!
URL:https://eapl.com/event/2024-eapl-zombi-run/
LOCATION:Buchanan Rec Center\, 32003 Ellingwood Trl\, Evergreen\, CO\, 80439-9778\, United States
CATEGORIES:Charity,Exhibition,Fundraiser,Volunteering
ATTACH;FMTTYPE=image/webp:https://eapl.com/wp-content/uploads/2024/06/12x12_zombie-art-scaled.webp
END:VEVENT
END:VCALENDAR